BEGIN:VCALENDAR
VERSION:2.0
PRODID:-//ChamberMaster//Event Calendar 2.0//EN
METHOD:PUBLISH
X-PUBLISHED-TTL:P3D
REFRESH-INTERVAL:P3D
CALSCALE:GREGORIAN
BEGIN:VEVENT
DTSTART:20201111T160000Z
DTEND:20201111T230000Z
X-MICROSOFT-CDO-ALLDAYEVENT:FALSE
SUMMARY:Veteran's Day Take Home Craft- Wine Stem Charms
DESCRIPTION:Let's clebrate our Veteran's with a take home craft!  Wine charms are as fun to use as they are to make. Register to recieve an 8oz bottle of cider and the supplies to make two wine stem charms. Adorn your wine glasses in patriotic style! With each glass dressed-up\, you'll be able to easily tell whose glass is whose.
X-ALT-DESC;FMTTYPE=text/html:Let&#39\;s clebrate our Veteran&#39\;s with a take home craft!&nbsp\; Wine charms are as fun to use as they are to make. Register to recieve an 8oz bottle of cider and the supplies to make two wine stem charms. Adorn your wine glasses in patriotic style! With each glass dressed-up\, you&rsquo\;ll be able to easily tell whose glass is whose.
LOCATION:Online
UID:e.563.25026
SEQUENCE:3
DTSTAMP:20260425T010707Z
URL:http://bulverdechamber-gzcms.preview.gochambermaster.com/events/details/veteran-s-day-take-home-craft-wine-stem-charms-25026
END:VEVENT

END:VCALENDAR
